BEGIN:VCALENDAR
VERSION:2.0
PRODID:-//Monument View Montessori - ECPv4.8//NONSGML v1.0//EN
CALSCALE:GREGORIAN
METHOD:PUBLISH
X-WR-CALNAME:Monument View Montessori
X-ORIGINAL-URL:https://mvmcharter.org
X-WR-CALDESC:Events for Monument View Montessori
BEGIN:VEVENT
DTSTART;TZID=UTC-7:20211113T100000
DTEND;TZID=UTC-7:20211113T120000
DTSTAMP:20260425T195407
CREATED:20211101T234530Z
LAST-MODIFIED:20211101T234639Z
UID:10665-1636797600-1636804800@mvmcharter.org
SUMMARY:MVMCS Hiking Club - Trail Through Time
DESCRIPTION:The MVMCS Hiking Club will be hiking the Trail Through Time at 10 am on Saturday\, November 13\, 2021. The hike is a 1.5-mile loop with tons of Jurassic-age fossils to see along the way.  There is a pit toilet past the parking area but it has occasionally been locked up; please plan accordingly.  The Trail Through Time is on the north side of the interstate at Exit 2; the parking area is about a hundred yards from the exit. \nhttps://goo.gl/maps/qPfYEn8d3MMzzepq8 \nPlease bring a backpack with water\, plenty of snacks\, and a first aid kit\, and dress appropriately for the weather. \nPlease note: This is a family event. Parents are expected to accompany their children. Leashed dogs are welcome to hike with us. We will wait about 15 minutes for the group to gather before we begin hiking. \nIf you have any questions\, please contact Cindy Burns at 303-579-1274. \nFOLLOW US ON SOCIAL MEDIA!\n\n\n                                    \n                                        \n                                    \n                              \n\n                                    \n                                        \n                                    \n                              \n\n\n                    jQuery(document).ready(function($) {\n\n                        // Enable Bootstrap Tooltips\n                        $('[data-toggle="tooltip"]').tooltip();\n\n                    });\n               
URL:https://mvmcharter.org/event/10665/
END:VEVENT
END:VCALENDAR