BEGIN:VCALENDAR
VERSION:2.0
PRODID:-//Monument View Montessori - ECPv4.8//NONSGML v1.0//EN
CALSCALE:GREGORIAN
METHOD:PUBLISH
X-WR-CALNAME:Monument View Montessori
X-ORIGINAL-URL:https://mvmcharter.org
X-WR-CALDESC:Events for Monument View Montessori
BEGIN:VEVENT
DTSTART;TZID=UTC-7:20250227T173000
DTEND;TZID=UTC-7:20250227T190000
DTSTAMP:20260420T072956
CREATED:20250121T175015Z
LAST-MODIFIED:20250121T175015Z
UID:11265-1740677400-1740682800@mvmcharter.org
SUMMARY:February Regular Board Meeting
DESCRIPTION:The MVMCS Board of Directors will be meeting for the regular board meeting at 5:30 pm on Thursday\, February 27\, 2025. The meeting will be held online. \nAll are welcome to join! \nThursday\, February 27 · 5:30 – 7:00pm\nTime zone: America/Denver\nGoogle Meet joining info\nVideo call link: https://meet.google.com/jbf-wxaf-xie\nOr dial: ‪(US) +1 570-701-4253‬ PIN: ‪116 716 622‬# \n
URL:https://mvmcharter.org/event/february-regular-board-meeting-6/
LOCATION:Google Meet Link\, CO\, 81521
END:VEVENT
END:VCALENDAR