BEGIN:VCALENDAR
VERSION:2.0
PRODID:-//Monument View Montessori - ECPv4.8//NONSGML v1.0//EN
CALSCALE:GREGORIAN
METHOD:PUBLISH
X-WR-CALNAME:Monument View Montessori
X-ORIGINAL-URL:https://mvmcharter.org
X-WR-CALDESC:Events for Monument View Montessori
BEGIN:VEVENT
DTSTART;TZID=UTC-7:20230824T173000
DTEND;TZID=UTC-7:20230824T190000
DTSTAMP:20260425T020627
CREATED:20230824T233332Z
LAST-MODIFIED:20230824T233654Z
UID:11117-1692898200-1692903600@mvmcharter.org
SUMMARY:August Regular Board Meeting
DESCRIPTION:The MVMCS Board of Directors will be meeting for the regular board meeting at 5:30 pm on Thursday\, August 24\, 2023. The meeting will be held online. \nAll are welcome to join! \nMVM Board Meeting Thursday\, August 24 · 5:30 – 7:00pm Time zone: America/Denver Google Meet joining info Video call link: https://meet.google.com/ukw-rvjg-fty Or dial: ‪(US) +1 661-527-3035‬ PIN: ‪164 647 678‬# \nFOLLOW US ON SOCIAL MEDIA!\n\n\n                                    \n                                        \n                                    \n                              \n\n                                    \n                                        \n                                    \n                              \n\n\n                    jQuery(document).ready(function($) {\n\n                        // Enable Bootstrap Tooltips\n                        $('[data-toggle="tooltip"]').tooltip();\n\n                    });\n               
URL:https://mvmcharter.org/event/august-regular-board-meeting-5/
CATEGORIES:Board Meeting
END:VEVENT
END:VCALENDAR