BEGIN:VCALENDAR
VERSION:2.0
PRODID:-//Monument View Montessori - ECPv4.8//NONSGML v1.0//EN
CALSCALE:GREGORIAN
METHOD:PUBLISH
X-WR-CALNAME:Monument View Montessori
X-ORIGINAL-URL:https://mvmcharter.org
X-WR-CALDESC:Events for Monument View Montessori
BEGIN:VEVENT
DTSTART;TZID=UTC-7:20220524T170000
DTEND;TZID=UTC-7:20220524T190000
DTSTAMP:20260425T121125
CREATED:20220519T003046Z
LAST-MODIFIED:20220519T005905Z
UID:10774-1653411600-1653418800@mvmcharter.org
SUMMARY:End of Year Picnic
DESCRIPTION:Meet MVMCS’s new head of school\, Michael Girodo\, while you picnic\, play and make new friends. Current and new MVMCS students and their families are invited. \nMeet at the Grand Shelter at Canyon View Park. \nBring your own picnic fixins’. \n  \n  \nFOLLOW US ON SOCIAL MEDIA!\n\n\n                                    \n                                        \n                                    \n                              \n\n                                    \n                                        \n                                    \n                              \n\n\n                    jQuery(document).ready(function($) {\n\n                        // Enable Bootstrap Tooltips\n                        $('[data-toggle="tooltip"]').tooltip();\n\n                    });\n               
URL:https://mvmcharter.org/event/end-of-year-picnic/
LOCATION:Canyon View Park\, 730 24 Rd\, Grand Junction\, CO\, 81505\, United States
END:VEVENT
END:VCALENDAR