BEGIN:VCALENDAR
VERSION:2.0
PRODID:-//Monument View Montessori - ECPv4.8//NONSGML v1.0//EN
CALSCALE:GREGORIAN
METHOD:PUBLISH
X-WR-CALNAME:Monument View Montessori
X-ORIGINAL-URL:https://mvmcharter.org
X-WR-CALDESC:Events for Monument View Montessori
BEGIN:VEVENT
DTSTART;TZID=UTC-7:20220216T173000
DTEND;TZID=UTC-7:20220216T190000
DTSTAMP:20260425T162809
CREATED:20211213T181145Z
LAST-MODIFIED:20211213T181145Z
UID:10691-1645032600-1645038000@mvmcharter.org
SUMMARY:February Regular Board Meeting
DESCRIPTION:The MVMCS Board of Directors will be meeting virtually for the regular board meeting at 5:30 pm on Wednesday\, February 16\, 2021. \nAll are welcome to join! \nTo join via Zoom meeting: https://zoom.us/j/91333935516?pwd=NUpJbTdHcStja2JtR3ZVbFdJTGRaZz09 \nCall in: (253) 215-8782\,  Meeting ID: 913 3393 5516 \nPassword: 139411 \nFOLLOW US ON SOCIAL MEDIA!\n\n\n                                    \n                                        \n                                    \n                              \n\n                                    \n                                        \n                                    \n                              \n\n\n                    jQuery(document).ready(function($) {\n\n                        // Enable Bootstrap Tooltips\n                        $('[data-toggle="tooltip"]').tooltip();\n\n                    });\n               
URL:https://mvmcharter.org/event/february-regular-board-meeting-3/
LOCATION:Zoom video conference
END:VEVENT
END:VCALENDAR