BEGIN:VCALENDAR
VERSION:2.0
PRODID:-//Monument View Montessori - ECPv4.8//NONSGML v1.0//EN
CALSCALE:GREGORIAN
METHOD:PUBLISH
X-WR-CALNAME:Monument View Montessori
X-ORIGINAL-URL:https://mvmcharter.org
X-WR-CALDESC:Events for Monument View Montessori
BEGIN:VEVENT
DTSTART;TZID=UTC-7:20211009T090000
DTEND;TZID=UTC-7:20211009T113000
DTSTAMP:20260425T181136
CREATED:20210930T025308Z
LAST-MODIFIED:20210930T145500Z
UID:10654-1633770000-1633779000@mvmcharter.org
SUMMARY:Hiking Club - Flume Canyon/Inner Flume Canyon
DESCRIPTION:Now that fall has arrived with cooler temperatures\, it’s time to kick off our hiking club again! The first hike for the 2021/2022 MVMCS Hiking Club will be at the Flume Canyon and Inner Flume Canyon trails. These trails begin at the Pollock Bench Trailhead in Fruita. We will meet in the parking lot at 9 am on Saturday\, October 9\, 2021: \nhttps://goo.gl/maps/45MfS5vmmA53W93W7 \nThe planned route is about 2.5 miles round trip. If there is rain in the forecast\, an alternate route may be selected due to the potential for flash flooding in Inner Flume Canyon. There is a pit toilet in the parking lot\, so please make sure to stop before the hike begins! (It’s recommended to have your own sanitizer on hand.) \nPlease bring a backpack with water\, plenty of snacks\, and a first aid kit\, and dress appropriately for the weather. \nPlease note: This is a family event. Parents are expected to accompany their children. Leashed dogs are welcome to hike with us. We will wait about 15 minutes for the group to gather before we begin hiking. \nIf you have any questions\, please contact Cindy Burns at 303-579-1274. \nFOLLOW US ON SOCIAL MEDIA!\n\n\n                                    \n                                        \n                                    \n                              \n\n                                    \n                                        \n                                    \n                              \n\n\n                    jQuery(document).ready(function($) {\n\n                        // Enable Bootstrap Tooltips\n                        $('[data-toggle="tooltip"]').tooltip();\n\n                    });\n               
URL:https://mvmcharter.org/event/hiking-club-flume-canyon-inner-flume-canyon/
ORGANIZER;CN="Cindy%20Burns":MAILTO:c.burns@mvmcharter.org
END:VEVENT
END:VCALENDAR