BEGIN:VCALENDAR
VERSION:2.0
PRODID:-//Monument View Montessori - ECPv4.8//NONSGML v1.0//EN
CALSCALE:GREGORIAN
METHOD:PUBLISH
X-WR-CALNAME:Monument View Montessori
X-ORIGINAL-URL:https://mvmcharter.org
X-WR-CALDESC:Events for Monument View Montessori
BEGIN:VEVENT
DTSTART;TZID=UTC-7:20240328T173000
DTEND;TZID=UTC-7:20240328T190000
DTSTAMP:20260424T153246
CREATED:20230825T013743Z
LAST-MODIFIED:20230825T014044Z
UID:11129-1711647000-1711652400@mvmcharter.org
SUMMARY:March Regular Board Meeting
DESCRIPTION:The MVMCS Board of Directors will be meeting for the regular board meeting at 5:30 pm on Thursday\, March 28\, 2024. The meeting will be held at the school. \nAll are welcome to join! \nFOLLOW US ON SOCIAL MEDIA!\n\n\n                                    \n                                        \n                                    \n                              \n\n                                    \n                                        \n                                    \n                              \n\n\n                    jQuery(document).ready(function($) {\n\n                        // Enable Bootstrap Tooltips\n                        $('[data-toggle="tooltip"]').tooltip();\n\n                    });\n               
URL:https://mvmcharter.org/event/march-regular-board-meeting-6/
LOCATION:MVMCS\, 1956 US-6\, Fruita\, CO\, 81521
CATEGORIES:Board Meeting
END:VEVENT
END:VCALENDAR