BEGIN:VCALENDAR
VERSION:2.0
PRODID:-//Monument View Montessori - ECPv4.8//NONSGML v1.0//EN
CALSCALE:GREGORIAN
METHOD:PUBLISH
X-WR-CALNAME:Monument View Montessori
X-ORIGINAL-URL:https://mvmcharter.org
X-WR-CALDESC:Events for Monument View Montessori
BEGIN:VEVENT
DTSTART;VALUE=DATE:20230116
DTEND;VALUE=DATE:20230117
DTSTAMP:20260425T105256
CREATED:20220531T151758Z
LAST-MODIFIED:20220531T151758Z
UID:10832-1673827200-1673913599@mvmcharter.org
SUMMARY:Martin Luther King Jr. Day - NO SCHOOL
DESCRIPTION:FOLLOW US ON SOCIAL MEDIA!\n\n\n                                    \n                                        \n                                    \n                              \n\n                                    \n                                        \n                                    \n                              \n\n\n                    jQuery(document).ready(function($) {\n\n                        // Enable Bootstrap Tooltips\n                        $('[data-toggle="tooltip"]').tooltip();\n\n                    });\n               
URL:https://mvmcharter.org/event/martin-luther-king-jr-day-no-school-3/
CATEGORIES:No School
END:VEVENT
END:VCALENDAR