BEGIN:VCALENDAR
VERSION:2.0
PRODID:-//Monument View Montessori - ECPv4.8//NONSGML v1.0//EN
CALSCALE:GREGORIAN
METHOD:PUBLISH
X-WR-CALNAME:Monument View Montessori
X-ORIGINAL-URL:https://mvmcharter.org
X-WR-CALDESC:Events for Monument View Montessori
BEGIN:VEVENT
DTSTART;TZID=UTC-7:20220518T173000
DTEND;TZID=UTC-7:20220518T190000
DTSTAMP:20260425T110105
CREATED:20211213T181447Z
LAST-MODIFIED:20220516T065406Z
UID:10697-1652895000-1652900400@mvmcharter.org
SUMMARY:May Regular Board Meeting
DESCRIPTION:The MVMCS Board of Directors will be meeting in person for the regular board meeting at 5:30 pm on Wednesday\, May 18\, 2022. The meeting will be held at the school at 1956 US-6\, Fruita\, CO  81521. \nAll are welcome to join! \nTo join via Zoom meeting: https://zoom.us/j/91333935516?pwd=NUpJbTdHcStja2JtR3ZVbFdJTGRaZz09 \nCall in: (253) 215-8782\,  Meeting ID: 913 3393 5516 \nPassword: 139411 \nFOLLOW US ON SOCIAL MEDIA!\n\n\n                                    \n                                        \n                                    \n                              \n\n                                    \n                                        \n                                    \n                              \n\n\n                    jQuery(document).ready(function($) {\n\n                        // Enable Bootstrap Tooltips\n                        $('[data-toggle="tooltip"]').tooltip();\n\n                    });\n               
URL:https://mvmcharter.org/event/may-regular-board-meeting-3/
LOCATION:MVMCS\, 1956 US-6\, Fruita\, CO\, 81521
END:VEVENT
END:VCALENDAR