BEGIN:VCALENDAR
VERSION:2.0
PRODID:-//Monument View Montessori - ECPv4.8//NONSGML v1.0//EN
CALSCALE:GREGORIAN
METHOD:PUBLISH
X-WR-CALNAME:Monument View Montessori
X-ORIGINAL-URL:https://mvmcharter.org
X-WR-CALDESC:Events for Monument View Montessori
BEGIN:VEVENT
DTSTART;TZID=UTC-7:20211211T110000
DTEND;TZID=UTC-7:20211211T130000
DTSTAMP:20260425T195959
CREATED:20211115T233325Z
LAST-MODIFIED:20211209T152836Z
UID:10672-1639220400-1639227600@mvmcharter.org
SUMMARY:MVMCS Hiking Club - Devil's Canyon Trail System
DESCRIPTION:The MVMCS Hiking Club will be hiking Devil’s Canyon at 11 am on Saturday\, December 11\, 2021: \nhttps://goo.gl/maps/FDnDr4aEU4TQGfEh8 \nThis area has a large network of trails\, so our hikers can pick their adventure as we go. There is a pit toilet in the parking lot\, so please make sure to stop before the hike begins! \nPlease bring a backpack with water\, plenty of snacks\, and a first aid kit. The forecast projects a very cold day\, so please dress appropriately for the weather. \nPlease note: This is a family event. Parents are expected to accompany their children. Leashed dogs are welcome to hike with us. We will wait about 15 minutes for the group to gather before we begin hiking. \nIf you have any questions\, please contact Cindy Burns at 303-579-1274. \nFOLLOW US ON SOCIAL MEDIA!\n\n\n                                    \n                                        \n                                    \n                              \n\n                                    \n                                        \n                                    \n                              \n\n\n                    jQuery(document).ready(function($) {\n\n                        // Enable Bootstrap Tooltips\n                        $('[data-toggle="tooltip"]').tooltip();\n\n                    });\n               
URL:https://mvmcharter.org/event/mvmcs-hiking-club-trail-tbd/
END:VEVENT
END:VCALENDAR