BEGIN:VCALENDAR
VERSION:2.0
PRODID:-//Monument View Montessori - ECPv4.8//NONSGML v1.0//EN
CALSCALE:GREGORIAN
METHOD:PUBLISH
X-WR-CALNAME:Monument View Montessori
X-ORIGINAL-URL:https://mvmcharter.org
X-WR-CALDESC:Events for Monument View Montessori
BEGIN:VEVENT
DTSTART;VALUE=DATE:20220808
DTEND;VALUE=DATE:20220810
DTSTAMP:20260425T103052
CREATED:20220531T145938Z
LAST-MODIFIED:20220531T145938Z
UID:10812-1659916800-1660089599@mvmcharter.org
SUMMARY:New Student and Kindergarten Orientation
DESCRIPTION:Welcome new students and kindergarteners! \nFOLLOW US ON SOCIAL MEDIA!\n\n\n                                    \n                                        \n                                    \n                              \n\n                                    \n                                        \n                                    \n                              \n\n\n                    jQuery(document).ready(function($) {\n\n                        // Enable Bootstrap Tooltips\n                        $('[data-toggle="tooltip"]').tooltip();\n\n                    });\n               
URL:https://mvmcharter.org/event/new-student-and-kindergarten-orientation-3/
LOCATION:MVMCS\, 1956 US-6\, Fruita\, CO\, 81521
END:VEVENT
END:VCALENDAR