BEGIN:VCALENDAR
VERSION:2.0
PRODID:-//Monument View Montessori - ECPv4.8//NONSGML v1.0//EN
CALSCALE:GREGORIAN
METHOD:PUBLISH
X-WR-CALNAME:Monument View Montessori
X-ORIGINAL-URL:https://mvmcharter.org
X-WR-CALDESC:Events for Monument View Montessori
BEGIN:VEVENT
DTSTART;TZID=UTC-7:20221116T173000
DTEND;TZID=UTC-7:20221116T190000
DTSTAMP:20260425T103707
CREATED:20220531T144624Z
LAST-MODIFIED:20221116T165239Z
UID:10792-1668619800-1668625200@mvmcharter.org
SUMMARY:November Regular Board Meeting - Change to Virtual
DESCRIPTION:The MVMCS Board of Directors will be meeting for the regular board meeting at 5:30 pm on Wednesday\, November 16\, 2022. Due to last-minute illnesses\, the meeting will be held virtually via Zoom. \nhttps://us06web.zoom.us/j/91333935516?pwd=NUpJbTdHcStja2JtR3ZVbFdJTGRaZz09 \nAll are welcome to join! \nFOLLOW US ON SOCIAL MEDIA!\n\n\n                                    \n                                        \n                                    \n                              \n\n                                    \n                                        \n                                    \n                              \n\n\n                    jQuery(document).ready(function($) {\n\n                        // Enable Bootstrap Tooltips\n                        $('[data-toggle="tooltip"]').tooltip();\n\n                    });\n               
URL:https://mvmcharter.org/event/november-regular-board-meeting-4/
LOCATION:MVMCS\, 1956 US-6\, Fruita\, CO\, 81521
CATEGORIES:Board Meeting
END:VEVENT
END:VCALENDAR