BEGIN:VCALENDAR
VERSION:2.0
PRODID:-//Monument View Montessori - ECPv4.8//NONSGML v1.0//EN
CALSCALE:GREGORIAN
METHOD:PUBLISH
X-WR-CALNAME:Monument View Montessori
X-ORIGINAL-URL:https://mvmcharter.org
X-WR-CALDESC:Events for Monument View Montessori
BEGIN:VEVENT
DTSTART;TZID=UTC-7:20211020T173000
DTEND;TZID=UTC-7:20211020T190000
DTSTAMP:20260425T232716
CREATED:20210630T204556Z
LAST-MODIFIED:20210630T204556Z
UID:10541-1634751000-1634756400@mvmcharter.org
SUMMARY:October Regular Board Meeting
DESCRIPTION:The MVMCS Board of Directors will be meeting virtually for the regular board meeting at 5:30 pm on Wednesday\, October 20\, 2021. \nAll are welcome to join! \nTo join via Zoom meeting: https://zoom.us/j/91333935516?pwd=NUpJbTdHcStja2JtR3ZVbFdJTGRaZz09 \nCall in: (253) 215-8782\,  Meeting ID: 913 3393 5516 \nPassword: 139411 \nFOLLOW US ON SOCIAL MEDIA!\n\n\n                                    \n                                        \n                                    \n                              \n\n                                    \n                                        \n                                    \n                              \n\n\n                    jQuery(document).ready(function($) {\n\n                        // Enable Bootstrap Tooltips\n                        $('[data-toggle="tooltip"]').tooltip();\n\n                    });\n               
URL:https://mvmcharter.org/event/october-regular-board-meeting-3/
LOCATION:Zoom video conference
END:VEVENT
END:VCALENDAR