BEGIN:VCALENDAR
VERSION:2.0
PRODID:-//Monument View Montessori - ECPv4.8//NONSGML v1.0//EN
CALSCALE:GREGORIAN
METHOD:PUBLISH
X-WR-CALNAME:Monument View Montessori
X-ORIGINAL-URL:https://mvmcharter.org
X-WR-CALDESC:Events for Monument View Montessori
BEGIN:VEVENT
DTSTART;TZID=UTC-7:20221019T173000
DTEND;TZID=UTC-7:20221019T190000
DTSTAMP:20260425T103016
CREATED:20220531T144527Z
LAST-MODIFIED:20220531T144527Z
UID:10790-1666200600-1666206000@mvmcharter.org
SUMMARY:October Regular Board Meeting
DESCRIPTION:The MVMCS Board of Directors will be meeting for the regular board meeting at 5:30 pm on Wednesday\, October 19\, 2022. The meeting will be held at the school. \nAll are welcome to join! \nFOLLOW US ON SOCIAL MEDIA!\n\n\n                                    \n                                        \n                                    \n                              \n\n                                    \n                                        \n                                    \n                              \n\n\n                    jQuery(document).ready(function($) {\n\n                        // Enable Bootstrap Tooltips\n                        $('[data-toggle="tooltip"]').tooltip();\n\n                    });\n               
URL:https://mvmcharter.org/event/october-regular-board-meeting-4/
LOCATION:MVMCS\, 1956 US-6\, Fruita\, CO\, 81521
CATEGORIES:Board Meeting
END:VEVENT
END:VCALENDAR