BEGIN:VCALENDAR
VERSION:2.0
PRODID:-//Monument View Montessori - ECPv4.8//NONSGML v1.0//EN
CALSCALE:GREGORIAN
METHOD:PUBLISH
X-WR-CALNAME:Monument View Montessori
X-ORIGINAL-URL:https://mvmcharter.org
X-WR-CALDESC:Events for Monument View Montessori
BEGIN:VEVENT
DTSTART;TZID=UTC-7:20210727T180000
DTEND;TZID=UTC-7:20210727T190000
DTSTAMP:20260425T161615
CREATED:20210720T165945Z
LAST-MODIFIED:20210720T203613Z
UID:10612-1627408800-1627412400@mvmcharter.org
SUMMARY:Preschool Open House
DESCRIPTION:The Preschool Classroom Open House/Orientation is on Tuesday\, July 27 from 6:00-7:00 pm. The evening will begin with an opportunity for you to meet other families\, as well as explore the classroom and the rest of the school from 6:00-6:15 pm. During this observation time\, please help your child and any siblings from touching the materials in the classrooms\, as they are carefully prepared for child-centered learning. \nAt 6:15 pm\, we will assemble in the preschool classroom. During this meeting\, we will cover all you need to know to ensure a successful start of the school year for your child\, in addition to answering any questions that you may have. The last part of the Open House will be an informal time to chat\, ask questions individually\, and explore the playground. \nThe Preschool supply list is linked below; please bring your child’s items to the Open House\, along with any outstanding registration paperwork\, to allow time for organization before classes begin. \n2021-22 Preschool Supply List \nPlease note that everyone over the age of two will be required to wear a mask during the indoor portion of the Open House\, due to the expected number of people in the building.  \nFOLLOW US ON SOCIAL MEDIA!\n\n\n                                    \n                                        \n                                    \n                              \n\n                                    \n                                        \n                                    \n                              \n\n\n                    jQuery(document).ready(function($) {\n\n                        // Enable Bootstrap Tooltips\n                        $('[data-toggle="tooltip"]').tooltip();\n\n                    });\n               
URL:https://mvmcharter.org/event/preschool-open-house/
END:VEVENT
END:VCALENDAR