BEGIN:VCALENDAR
VERSION:2.0
PRODID:-//Monument View Montessori - ECPv4.8//NONSGML v1.0//EN
CALSCALE:GREGORIAN
METHOD:PUBLISH
X-WR-CALNAME:Monument View Montessori
X-ORIGINAL-URL:https://mvmcharter.org
X-WR-CALDESC:Events for Monument View Montessori
BEGIN:VEVENT
DTSTART;TZID=UTC-7:20200909T160000
DTEND;TZID=UTC-7:20200909T170000
DTSTAMP:20260426T042552
CREATED:20200902T220945Z
LAST-MODIFIED:20200903T232330Z
UID:10373-1599667200-1599670800@mvmcharter.org
SUMMARY:Sept. Special Board Meeting
DESCRIPTION:Monument View Montessori Charter School\nSpecial Board Meeting\nWed\, Sept. 9\, 2020 at 4:00 PM\n1956 US-6  Fruita\, CO 81521  \nvia Conference call \nCall in: (206) 279-9591\,  Conference code: 146892 \nHost code: 6863 \nConference call with John Brendza to discuss agenda/details of upcoming work session on Sept. 12 \nFOLLOW US ON SOCIAL MEDIA!\n\n\n                                    \n                                        \n                                    \n                              \n\n                                    \n                                        \n                                    \n                              \n\n\n                    jQuery(document).ready(function($) {\n\n                        // Enable Bootstrap Tooltips\n                        $('[data-toggle="tooltip"]').tooltip();\n\n                    });\n               
URL:https://mvmcharter.org/event/sept-special-board-meeting/
CATEGORIES:Board Meeting
END:VEVENT
END:VCALENDAR