BEGIN:VCALENDAR
VERSION:2.0
PRODID:-//Monument View Montessori - ECPv4.8//NONSGML v1.0//EN
CALSCALE:GREGORIAN
METHOD:PUBLISH
X-WR-CALNAME:Monument View Montessori
X-ORIGINAL-URL:https://mvmcharter.org
X-WR-CALDESC:Events for Monument View Montessori
BEGIN:VEVENT
DTSTART;VALUE=DATE:20220906
DTEND;VALUE=DATE:20220907
DTSTAMP:20260425T160659
CREATED:20220531T150442Z
LAST-MODIFIED:20220531T150442Z
UID:10818-1662422400-1662508799@mvmcharter.org
SUMMARY:Teacher Work Day - NO SCHOOL
DESCRIPTION:FOLLOW US ON SOCIAL MEDIA!\n\n\n                                    \n                                        \n                                    \n                              \n\n                                    \n                                        \n                                    \n                              \n\n\n                    jQuery(document).ready(function($) {\n\n                        // Enable Bootstrap Tooltips\n                        $('[data-toggle="tooltip"]').tooltip();\n\n                    });\n               
URL:https://mvmcharter.org/event/teacher-work-day-no-school-22/
CATEGORIES:No School
END:VEVENT
END:VCALENDAR